BEGIN:VCALENDAR
VERSION:2.0
PRODID:http://www.pfarrei-kastellaun.de
BEGIN:VEVENT
UID:ea0feba1-2488-11f1-a21a-0242ac11002b-1777192200000-de
DTSTAMP:20260320T181628Z
DTSTART:20260426T083000Z
SUMMARY;LANGUAGE=de:Festhochamt, anschließend Markusprozession Braunshorn
DESCRIPTION;LANGUAGE=de:Festhochamt zum Patronat des hl. Markus mit Einsegnung des neuen Orgelspieltischs. Anschließend Markusprozession mit Begleitung durch die Pfarrkapelle Lingerhahn.
LOCATION;LANGUAGE=de:Kirche St. Markus Dommershausen\, An der Kirche\, 56290 Dommershausen
IMAGE;VALUE=URI;DISPLAY=BADGE;FMTTYPE=image/jpeg:http://www.pfarrei-kastellaun.dehttps://cdn.bistum-trier.de/export/shared/05_stockfotos/Kreuz-im-Wald.JPG
END:VEVENT
END:VCALENDAR
