BEGIN:VCALENDAR
VERSION:2.0
PRODID:http://www.pfarrei-kastellaun.de
BEGIN:VEVENT
UID:bee58b7e-3ef5-11f1-a3e9-0242ac11002b-1780783200000-de
DTSTAMP:20260423T092101Z
DTSTART:20260606T220000Z
DTEND:20260607T220000Z
SUMMARY;LANGUAGE=de:Ökumenischer Gottesdienst zum Jubiläum mit Bischof Ackermann und Präses Latzel
DESCRIPTION;LANGUAGE=de:Wege auf ein gemeinsames Ziel hin\, ausgerichtet auf Jesus Christus!\nIn der Vergangenheit wurde oft das Trennende der beiden Konfessionen betont und das Wegekreuz in dieser Haltung mehrfach abgesägt und wieder aufgestellt. Heute soll das Gemeinsame im Vordergrund stehen\, denn der Glaube eint uns. Und trotz aller Unterschiedlichkeiten durch die Jahrhunderte hinweg sind wir auf dieses gemeinsame Ziel hin ausgerichtet: Jesus Christus. Es ist ein Grund zur Freude\, dass wir mit dem Blick auf ihn heute aufeinander zugehen und gemeinsam unter dem Kreuz stehen.\n16.30 Uhr Treffen jeweils an der Pfarrkirche Kreuzauffindung in Kastellaun und der evangelischen Kirche in Uhler; gemeinsamer Gang zum Kreuz mit der Möglichkeit zum Gespräch;\n17:00 Uhr ökumenischer Gottesdienst am Wegekreuz;\nanschl. gemütliches Beisammensein mit Getränken\n
IMAGE;VALUE=URI;DISPLAY=BADGE;FMTTYPE=image/jpeg:http://www.pfarrei-kastellaun.de/export/sites/pfarreien/pfarrei-kastellaun-heilige-familie/.galleries/bilder/Kreuz-2-Baerbel-Wagner.jpg
END:VEVENT
END:VCALENDAR
